BEGIN:VCALENDAR
VERSION:2.0
PRODID:-//hacksw/handcal//NONSGML v1.0//EN
BEGIN:VEVENT
DTSTAMP:20230326T000000Z
DTSTART:20230326T000000Z
DTEND:20230326T020000Z

SUMMARY:Young Nudy
DESCRIPTION:Purchase Young Nudy Meet & Greet Upgrade HERE (does not include GA ticket)Young Nudy Meet & Greet UpgradeEarly entry into the venueExclusive Meet & Greet with Young NudyPersonal photograph with Young NudyLimited Edition Young Nudy Rolling Tray (Exclusive to VIP only!)Custom Young Nudy diceCrowd-free merchandise shopping Official Meet & Greet laminate; autographed by Young NudyLimited availabilityBased on the latest local guidelines, attendees are no longer required to provide proof of negative COVID-19 test AND/OR vaccination for entry into Brooklyn Bowl. Policies are subject to change for individual performances, please refer to individual event pages for specific entry requirements. An inherent risk of exposure to COVID-19 exists in any public place where people are present. COVID-19 is an extremely contagious disease that can lead to severe illness and death. According to the local health authorities, senior citizens and guests with underlying medical conditions are especially vulnerable.  By visiting our establishment, you voluntarily assume all risks related to the exposure to or spreading of COVID-19.Valid photo ID required at door for entry.This event is general admission standing room only. END:VEVENT
END:VCALENDAR