BEGIN:VCALENDAR
VERSION:2.0
PRODID:-//hacksw/handcal//NONSGML v1.0//EN
BEGIN:VEVENT
DTSTAMP:20260830T000000Z
DTSTART:20260830T000000Z
DTEND:20260830T030000Z

SUMMARY:Who's Bad - The Ultimate Michael Jackson Birthday Celebration
DESCRIPTION:Valid photo ID required for entry. Doors: 6pm Show: 8pm All Ages
END:VEVENT
END:VCALENDAR