BEGIN:VCALENDAR
VERSION:2.0
PRODID:-//hacksw/handcal//NONSGML v1.0//EN
BEGIN:VEVENT
DTSTAMP:20200121T030000Z
DTSTART:20200121T030000Z
DTEND:20200121T050000Z

SUMMARY:True Vibes Benefit Concert feat. ST-1, HaleAmano, Band of Braddahs + more!
DESCRIPTION:100% of proceeds benefit the family of Sio Olive$10.00 General Admisssion Standing Room Only Tickets.   No refunds.  All general admission tickets are standing room only. ALL TICKET PRICES INCLUDE NEVADA&#39;S 9% LIVE ENTERTAINMENT TAX Special room discounts via Caesars Hotels & Resorts for traveling fans. For hotel rooms use promo code: BRB15 at www.caesars.com applicable for rooms at The LINQ Hotel and the Flamingo. *Advertised times are for doors -- show time not available** Venue closes between 12am - 1am unless otherwise noted* 
END:VEVENT
END:VCALENDAR