BEGIN:VCALENDAR
VERSION:2.0
PRODID:-//hacksw/handcal//NONSGML v1.0//EN
BEGIN:VEVENT
DTSTAMP:20220602T010000Z
DTSTART:20220602T010000Z
DTEND:20220602T030000Z

SUMMARY:Trouble No More - Performing The Iconic Album "Eat A Peach" ft. Brandon "Taz" Niederauer, Daniel Donato, Dylan Niederauer, Jack Ryan, Nikki Glaspie, Peter Levin and Roosevelt Collier
DESCRIPTION:By visiting our establishment, you voluntarily assume all risks related to the exposure to or spreading of COVID-19.Valid photo ID required at door for entryThis event is general admission standing room only.All Support Acts are subject to change without notice.If you are interested in reserving a bowling lane or a VIP Box in advance, please reach out to nashvilleevents@brooklynbowl.com.  END:VEVENT
END:VCALENDAR