BEGIN:VCALENDAR
VERSION:2.0
PRODID:-//hacksw/handcal//NONSGML v1.0//EN
BEGIN:VEVENT
DTSTAMP:20240719T000000Z
DTSTART:20240719T000000Z
DTEND:20240719T030000Z

SUMMARY:Toots And The Maytals Ft. Leba Hibbert
DESCRIPTION:Valid photo ID required for entry Doors: 6:00pm Show: 8:00pm
END:VEVENT
END:VCALENDAR