BEGIN:VCALENDAR
VERSION:2.0
PRODID:-//hacksw/handcal//NONSGML v1.0//EN
BEGIN:VEVENT
DTSTAMP:20250625T013000Z
DTSTART:20250625T013000Z
DTEND:20250625T043000Z

SUMMARY:Tight Ends & Friends Concert (21+)
DESCRIPTION:This event is 21+. A physical, valid government-issued photo ID is required for entry. No refunds will be issued for failure to produce proper identification.Want to have the total VIP experience? Upgrade your ticket today by reserving a bowling lane by visiting the VIP Upgrade tab on our website.Doors: 7:30PM / Show 8:30PMThis ticket is valid for standing room only, general admission on the 1st Floor.ADA accommodations are available the day of the show. All performing acts are subject to change without notice.Any change in showtimes or other important information will be relayed to ticket-buyers via email.ALL SALES ARE FINALTIGHT ENDS & FRIENDS is back in Nashville for the second annual concert at Brooklyn Bowl Nashville. Be part of the TEU fun for a night featuring surprise musical guests and entertainment. Founded by George Kittle, Travis Kelce, and Greg Olsen, Tight End University is celebrating its fifth year of bringing Tight Ends from across the NFL together to elevate the position and give back to the community.
END:VEVENT
END:VCALENDAR