BEGIN:VCALENDAR
VERSION:2.0
PRODID:-//hacksw/handcal//NONSGML v1.0//EN
BEGIN:VEVENT
DTSTAMP:20260321T000000Z
DTSTART:20260321T000000Z
DTEND:20260321T030000Z

SUMMARY:The Soul Rebels w/ Special Guest Karl Denson
DESCRIPTION:Valid photo ID required for entry. Doors: 6pm Show: 8pm 21+
END:VEVENT
END:VCALENDAR