BEGIN:VCALENDAR
VERSION:2.0
PRODID:-//hacksw/handcal//NONSGML v1.0//EN
BEGIN:VEVENT
DTSTAMP:20240413T000000Z
DTSTART:20240413T000000Z
DTEND:20240413T030000Z

SUMMARY:The New Mastersounds
DESCRIPTION:PK.KID to spin before & between The New Mastersounds Valid photo ID required at door for entry Doors: 6:00 PM Show: 8:00 PMPK.KID to spin before & between The New Mastersounds Valid photo ID required at door for entry Doors: 6:00 PM Show: 8:00 PM
END:VEVENT
END:VCALENDAR