BEGIN:VCALENDAR
VERSION:2.0
PRODID:-//hacksw/handcal//NONSGML v1.0//EN
BEGIN:VEVENT
DTSTAMP:20210805T040000Z
DTSTART:20210805T040000Z
DTEND:20210805T060000Z

SUMMARY:The Jerry Dance Party
DESCRIPTION:Valid photo ID required at door for entryThis event is general admission standing room only.Doors: 10:00 PMShow: 11:00 PMAn inherent risk of exposure to COVID-19 exists in any public place where people are present. COVID-19 is an extremely contagious disease that can lead to severe illness and death. According to the local health authorities, senior citizens and guests with underlying medical conditions are especially vulnerable.By visiting our establishment, you voluntarily assume all risks related to exposure to COVID-19.Help keep each other healthy. By purchasing an advance ticket to this show, you are automatically opted into Relix Media Group&#39;s email list. You may unsubscribe or opt-out after you receive the first message.  END:VEVENT
END:VCALENDAR