BEGIN:VCALENDAR
VERSION:2.0
PRODID:-//hacksw/handcal//NONSGML v1.0//EN
BEGIN:VEVENT
DTSTAMP:20251205T010000Z
DTSTART:20251205T010000Z
DTEND:20251205T040000Z

SUMMARY:The Hold Steady - Massive Nights 2025: 10 Years of Killer Parties!
DESCRIPTION:Valid photo ID required for entryDoors: 6pmShow: 8pm21+
END:VEVENT
END:VCALENDAR