BEGIN:VCALENDAR
VERSION:2.0
PRODID:-//hacksw/handcal//NONSGML v1.0//EN
BEGIN:VEVENT
DTSTAMP:20251206T013000Z
DTSTART:20251206T013000Z
DTEND:20251206T043000Z

SUMMARY:The Hold Steady - Massive Nights 2025: 10 Years of Killer Parties!
DESCRIPTION:Valid photo ID required for entryDoors: 6pmShow: 8:30pm21+
END:VEVENT
END:VCALENDAR