BEGIN:VCALENDAR
VERSION:2.0
PRODID:-//hacksw/handcal//NONSGML v1.0//EN
BEGIN:VEVENT
DTSTAMP:20230217T000000Z
DTSTART:20230217T000000Z
DTEND:20230217T020000Z

SUMMARY:Sugar N' Spice
DESCRIPTION:From Baby and Scary Spice to Dua Lipa + Doja Cat - The Gals of Unicorn Party are bringing their girl power dynamic to the lanes Brooklyn Bowl Philadelphia. Sugar and spice and everything nice, let’s make some magic! 
END:VEVENT
END:VCALENDAR