BEGIN:VCALENDAR
VERSION:2.0
PRODID:-//hacksw/handcal//NONSGML v1.0//EN
BEGIN:VEVENT
DTSTAMP:20250413T010000Z
DTSTART:20250413T010000Z
DTEND:20250413T040000Z

SUMMARY:STRFKR
DESCRIPTION:This event is 18+, unless accompanied by a parent or legal guardian. A physical, valid government-issued photo ID is required for entry. No refunds will be issued for failure to produce proper identification. Want to have the total VIP experience? Upgrade your ticket today by reserving a bowling lane or VIP Box by visiting the VIP Upgrade tab on our website.
END:VEVENT
END:VCALENDAR