BEGIN:VCALENDAR
VERSION:2.0
PRODID:-//hacksw/handcal//NONSGML v1.0//EN
BEGIN:VEVENT
DTSTAMP:20210814T010000Z
DTSTART:20210814T010000Z
DTEND:20210814T030000Z

SUMMARY:Start Making Sense: Talking Heads Tribute
DESCRIPTION:This event is 18+ Anyone under the age of 18 must be accompanied by a parent or guardianValid ID required for entry This event is general admission standing room onlyDoors: 6:00 PMShow: 8:00 PMDue to circumstances outside of our control, Start Making Sense at Brooklyn Bowl Nashville originally scheduled for 6/12/20 has been rescheduled to Friday, August 13, 2021. An inherent risk of exposure to COVID-19 exists in any public place where people are present. COVID-19 is an extremely contagious disease that can lead to severe illness and death. According to the local health authorities, senior citizens and guests with underlying medical conditions are especially vulnerable. By visiting our establishment, you voluntarily assume all risks related to exposure to COVID-19.Help keep each other healthy.  END:VEVENT
END:VCALENDAR