BEGIN:VCALENDAR
VERSION:2.0
PRODID:-//hacksw/handcal//NONSGML v1.0//EN
BEGIN:VEVENT
DTSTAMP:20210717T010000Z
DTSTART:20210717T010000Z
DTEND:20210717T030000Z

SUMMARY:Starbenders + Tuk Smith And The Restless Hearts + Amy Darling
DESCRIPTION:This event is 18+ Anyone under the age of 18 must be accompanied by a parent or guardianValid photo ID required at door for entryThis event is general admission standing room only.Doors: 6:00 PMShow: 8:00 PMAn inherent risk of exposure to COVID-19 exists in any public place where people are present. COVID-19 is an extremely contagious disease that can lead to severe illness and death. According to the local health authorities, senior citizens and guests with underlying medical conditions are especially vulnerable. By visiting our establishment, you voluntarily assume all risks related to exposure to COVID-19.Help keep each other healthy.  END:VEVENT
END:VCALENDAR