BEGIN:VCALENDAR
VERSION:2.0
PRODID:-//hacksw/handcal//NONSGML v1.0//EN
BEGIN:VEVENT
DTSTAMP:20230513T023000Z
DTSTART:20230513T023000Z
DTEND:20230513T053000Z

SUMMARY:Stabbing Westward With Special Guest The Birthday Massacre
DESCRIPTION:All support acts are subject to change without notice.ALL SALES ARE FINAL. NO REFUNDS OR EXCHANGESTickets purchased in person, subject to $2.00 processing charge (in addition to cc fee, if applicable).All general admission tickets are standing room only.ALL TICKET PRICES ARE SUBJECT NEVADA&#39;S 9% LIVE ENTERTAINMENT TAX *Advertised times are for doors -- show time not available*Be sure to check our venue website for the latest updates and guidelines as entry requirements are subject to changeFree Local Parking - Residents of Clark County who purchased a ticket will receive free parking the night of the show at any Caesars Self-Parking locations. The Parking Validation Machine is located inside the Retail Store of Brooklyn Bowl. All guests must have a valid government/state issued ID for entry to the venue.
END:VEVENT
END:VCALENDAR