BEGIN:VCALENDAR
VERSION:2.0
PRODID:-//hacksw/handcal//NONSGML v1.0//EN
BEGIN:VEVENT
DTSTAMP:20240421T000000Z
DTSTART:20240421T000000Z
DTEND:20240421T030000Z

SUMMARY:Spafford (3 sets!)
DESCRIPTION:Valid photo ID required at door for entryDoors: 6:00 PMShow: 8:00 PM
END:VEVENT
END:VCALENDAR