BEGIN:VCALENDAR
VERSION:2.0
PRODID:-//hacksw/handcal//NONSGML v1.0//EN
BEGIN:VEVENT
DTSTAMP:20220312T010000Z
DTSTART:20220312T010000Z
DTEND:20220312T030000Z

SUMMARY:Son Volt
DESCRIPTION:PROOF OF VACCINATION OR NEGATIVE COVID TEST REQUIRED FOR ENTRY INTO BROOKLN BOWL from 6:00 - 11:00pm this evening.Valid photo ID required at door for entryDoors: 6:00 PM / Show: 8:00 PMVACCINES: All guests must show proof of 2 vaccine doses (1 dose if Johnson & Johnson) with a matching photo ID.ORProof of a negative COVID test, administered within 72 hours of the day of show, with matching photo ID. A negative PCR or antigen COVID-19 test will be accepted. Please be sure to bring printed or digital proof of your negative test result, dated and time-stamped. At-home COVID-19 test results will only be accepted if there is a link to results you can print or provide from a medical platform, dated and time-stamped. Any guests, including ticket holders, unable to provide adequate proof of vaccination will not be granted entry into the venue.By purchasing a ticket you acknowledge you will be required to show proof of vaccination or a negative test result. There will be no refunds for purchased tickets based on non-compliance of venue COVID-19 protocols.An inherent risk of exposure to COVID-19 exists in any public place where people are present. COVID-19 is an extremely contagious disease that can lead to severe illness and death. According to the local health authorities, senior citizens and guests with underlying medical conditions are especially vulnerable. By visiting our establishment, you voluntarily assume all risks related to the exposure to or spreading of COVID-19.END:VEVENT
END:VCALENDAR