BEGIN:VCALENDAR
VERSION:2.0
PRODID:-//hacksw/handcal//NONSGML v1.0//EN
BEGIN:VEVENT
DTSTAMP:20240919T023000Z
DTSTART:20240919T023000Z
DTEND:20240919T053000Z

SUMMARY:Smith & Watt Steakhouse
DESCRIPTION:Legendary Red Hot Chili Peppers drummer Chad Smith and Grammy Award Winning Producer Andrew Watt team up for a cover band extravaganza. Beware of special guests and prepare for the greatest night of your life...Valid photo ID required for entry Doors: 10pm Show: 10:30pm
END:VEVENT
END:VCALENDAR