BEGIN:VCALENDAR
VERSION:2.0
PRODID:-//hacksw/handcal//NONSGML v1.0//EN
BEGIN:VEVENT
DTSTAMP:20240106T010000Z
DTSTART:20240106T010000Z
DTEND:20240106T040000Z

SUMMARY:Sapphira Cristàl's RuPaul’s Drag Race Season 16 Premiere Party (18+)
DESCRIPTION:Join us at Philadelphia’s Brooklyn Bowl to screen the PREMIERE episode of RuPaul’s Drag Race Season 16 featuring Sapphira Cristál! Celebrate with La Diva Grande Dame de Philadelphia, Sapphira Cristál, the series’ FIRST PHILADELPHIA CONTESTANT, and some of Philadelphia’s finest drag talent:Eric JaffeVinchelleOnyx Ondyx (Dragula S5)Avery Goodname (Camp Wannakiki S5)Iris SpectreandDJ Honey Davenport (RuPaul’s Drag Race S11) UPDATED TIMING:Meet and Greet check-in @ 5:00 PMMeet and Greet @ 5:30 PMDoors Open @ 6:30 PM This event is 18+. Valid government-issued photo ID is required for entry. No refunds will be issued for failure to produce proper identification. This ticket is valid for standing room only, general admission. ADA accommodations are available day of show. All support acts are subject to change without notice. Any change in showtimes, safety protocols, and other important information will be relayed to ticket-buyers via email. ALL SALES ARE FINAL
END:VEVENT
END:VCALENDAR