BEGIN:VCALENDAR
VERSION:2.0
PRODID:-//hacksw/handcal//NONSGML v1.0//EN
BEGIN:VEVENT
DTSTAMP:20240413T033000Z
DTSTART:20240413T033000Z
DTEND:20240413T063000Z

SUMMARY:REV909: Daft Punk/French House Tribute, Indie Dance & Nu Disco
DESCRIPTION:REV909, known for its legendary late-night parties at the renowned former U Street Music Hall in Washington, DC, celebrates the iconic sounds of French House, indie dance, and nu disco classics.  From Daft Punk to Justice, 90s French Touch to early-aughts electro and bloghouse, piano house anthems to disco-soaked deep cuts, we&#39;ll be playing all the greats, all night long. We&#39;ll see you on the dance floor. 
END:VEVENT
END:VCALENDAR