BEGIN:VCALENDAR
VERSION:2.0
PRODID:-//hacksw/handcal//NONSGML v1.0//EN
BEGIN:VEVENT
DTSTAMP:20220406T010000Z
DTSTART:20220406T010000Z
DTEND:20220406T030000Z

SUMMARY:Poppy – Never Find My Place Tour
DESCRIPTION:Based on the latest local guidelines, attendees are no longer required to provide proof of negative COVID-19 test AND/OR vaccination for entry into this event. Be sure to check your venue website for the latest updates and guidelines as entry requirements are subject to change. An inherent risk of exposure to COVID-19 exists in any public place where people are present. COVID-19 is an extremely contagious disease that can lead to severe illness and death. According to the local health authorities, senior citizens and guests with underlying medical conditions are especially vulnerable.  By visiting our establishment, you voluntarily assume all risks related to the exposure to or spreading of COVID-19.Valid photo ID required at door for entryThis event is general admission standing room only. Poppy Never Find My Place Tour Meet & Greet Package-One general admission ticket-Early entry into the venue-Exclusive enclosed meet & greet with Poppy-Personal photograph with Poppy-Exclusive VIP merchandise item -Official meet & greet laminate; autographed by Poppy-Very limited availability  
END:VEVENT
END:VCALENDAR