BEGIN:VCALENDAR
VERSION:2.0
PRODID:-//hacksw/handcal//NONSGML v1.0//EN
BEGIN:VEVENT
DTSTAMP:20240604T010000Z
DTSTART:20240604T010000Z
DTEND:20240604T040000Z

SUMMARY:CANCELLED - A LIVE ORCHESTRAL RENDITION OF DR. DRE: 2001
DESCRIPTION:Due to unfortunate events the show is being cancelled at BB Nashville please look for email from Universe in the next few daysNo Strings Attached are pleased to present A LIVE Orchestral Rendition of:DR. DRE: 2001This body of work features so many intricate musical layers, we have brought in one of Europe’s leading Orchestras to perform a complete rendition of the album and some of Dre’s west coast classics from start to finish. Accompanied by DJ&#39;s, singers, and lyricists - this is not your average Orchestral event. This is no ordinary Orchestral event. Expect a full standing crowd, with performances from various DJ’s, lyricists and singers as well as a full Orchestral Rendition of Dr. Dre’s: 2001 album, followed by other of Dre’s west coast classics. This is the combination of a traditional Orchestra merging with a modern live hip-hop music event. We’re extremely excited to bring this production to yourselves.Note: Dr Dre will not be attending this event. This is an orchestral rendition event performing covers and renditions. This is a standing event.This ticket is valid for standing room only, general admission. ADA accommodations are available day of show. All support acts are subject to change without notice. Any change in showtimes, safety protocols, and other important information will be relayed to ticket-buyers via email. ALL SALES ARE FINALDOORS: 7:00 PM | SHOW: 8:00 PM
END:VEVENT
END:VCALENDAR