BEGIN:VCALENDAR
VERSION:2.0
PRODID:-//hacksw/handcal//NONSGML v1.0//EN
BEGIN:VEVENT
DTSTAMP:20230514T230000Z
DTSTART:20230514T230000Z
DTEND:20230515T010000Z

SUMMARY:Open For Food & Bowling!
DESCRIPTION:
END:VEVENT
END:VCALENDAR