BEGIN:VCALENDAR
VERSION:2.0
PRODID:-//hacksw/handcal//NONSGML v1.0//EN
BEGIN:VEVENT
DTSTAMP:20221204T230000Z
DTSTART:20221204T230000Z
DTEND:20221205T010000Z

SUMMARY:Open for Bowling
DESCRIPTION:21+ after 8:00PMFor bowling, we accept walk-ins and advance reservations are available (including a food and beverage minimum).To book in advance, please email nashvilleevents@brooklynbowl.com There are no COVID-19 vaccination or test requirements for this event. An inherent risk of exposure to COVID-19 exists in any public place where people are present. By visiting our establishment, you voluntarily assume all risks related to the exposure to or spreading of COVID-19. 
END:VEVENT
END:VCALENDAR