BEGIN:VCALENDAR
VERSION:2.0
PRODID:-//hacksw/handcal//NONSGML v1.0//EN
BEGIN:VEVENT
DTSTAMP:20211111T230000Z
DTSTART:20211111T230000Z
DTEND:20211112T010000Z

SUMMARY:Open for Bowling - Thursday Night Football on the screens!
DESCRIPTION:21+ after 8:00PMFor bowling, we accept walk-ins and advance reservations are available (including a food and beverage minimum).To book in advance, please email nashvilleevents@brooklynbowl.com An inherent risk of exposure to COVID-19 exists in any public place where people are present. COVID-19 is an extremely contagious disease that can lead to severe illness and death. According to the local health authorities, senior citizens and guests with underlying medical conditions are especially vulnerable. By visiting our establishment, you voluntarily assume all risks related to exposure to COVID-19.Help keep each other healthy.  END:VEVENT
END:VCALENDAR