BEGIN:VCALENDAR
VERSION:2.0
PRODID:-//hacksw/handcal//NONSGML v1.0//EN
BEGIN:VEVENT
DTSTAMP:20210815T000000Z
DTSTART:20210815T000000Z
DTEND:20210815T020000Z

SUMMARY:Open at 5PM for Bowling, Food and Drinks!
DESCRIPTION:
END:VEVENT
END:VCALENDAR