BEGIN:VCALENDAR
VERSION:2.0
PRODID:-//hacksw/handcal//NONSGML v1.0//EN
BEGIN:VEVENT
DTSTAMP:20240412T000000Z
DTSTART:20240412T000000Z
DTEND:20240412T030000Z

SUMMARY:Marco Benevento x Ghost Funk Orchestra
DESCRIPTION:Valid photo ID required at door for entry Doors: 6:00 PM Show: 8:00 PMValid photo ID required at door for entry Doors: 6:00 PM Show: 8:00 PM
END:VEVENT
END:VCALENDAR