BEGIN:VCALENDAR
VERSION:2.0
PRODID:-//hacksw/handcal//NONSGML v1.0//EN
BEGIN:VEVENT
DTSTAMP:20210820T010000Z
DTSTART:20210820T010000Z
DTEND:20210820T030000Z

SUMMARY:Maggie Rose - Album Release Party
DESCRIPTION:Because of the rise in cases due to the delta variant, a special COVID protocol is required for everyone that will be in attendance for Maggie Rose on 8/19/21 at Brooklyn Bowl Nashville. You, and anyone accompanying you in your party, are required to provide ONE of the following:Proof of your vaccination record (vaccination card or picture of your card with a matching ID card), demonstrating you were fully vaccinated at least two weeks in advance of the day of show. OR proof of a negative COVID test, administered within 48 hours of the day of show, with matching ID card.The city of Nashville is offering free testing (Monday - Friday, 8am-2pm) at 2491 Murfreesboro Pike, Nashville, TN 37217 (former K-Mart parking lot). For more information on the specific testing site, please visit this link here: https://www.asafenashville.org/test-mask-resources/.Maggie Rose and Brooklyn Bowl encourages mask wearing and encourages you to get vaccinated if you aren’t already!By purchasing a ticket you are acknowledging you will be required to show proof of vaccination or negative test result. There will be no refunds for tickets purchased, due to specific venue covid-19 protocol. If you receive a positive test before the show, please reach out to nashvilleboxoffice@brooklynbowl.com and we will help facilitate a full refund.This event is 18+ Anyone under the age of 18 must be accompanied by a parent or guardianValid photo ID required at door for entryThis event is general admission standing room onlyDoors: 6:00 PMShow: 8:00 PM
END:VEVENT
END:VCALENDAR