BEGIN:VCALENDAR
VERSION:2.0
PRODID:-//hacksw/handcal//NONSGML v1.0//EN
BEGIN:VEVENT
DTSTAMP:20251101T010000Z
DTSTART:20251101T010000Z
DTEND:20251101T040000Z

SUMMARY:Nightmare at the Juke Joint: Annual Halloween Party
DESCRIPTION:This event is 21+. A physical, valid government-issued photo ID is required for entry. No refunds will be issued for failure to produce proper identification. Want to have the total VIP experience? Upgrade your ticket today by reserving a bowling lane or VIP Box by visiting the VIP Upgrade tab on our website.Nashville gets SPOOKY Friday, October 31st at this year's annual Kinesixx and 2Ls on a Cloud Halloween Bash. This year's Nightmare at the Juke Joint features a play on the movie SINNERS with a theme that invites you to MOVE. Costumes THOROUGHLY encouraged as the night will feature a soundtrack by Ohio's DJ Bandcamp and Nashville's DJ Cashruulz. Prepare for a night where you walk in as strangers and leave as KIN'folk. This ticket is valid for standing room only, general admission. ADA accommodations are available day of show.All support acts are subject to change without notice.Any change in showtimes or other important information will be relayed to ticket-buyers via email.ALL SALES ARE FINALTickets purchased in person, subject to $3.00 processing charge (in addition to cc fee, if applicable).*Advertised times are for show times - check Brooklyn Bowl Nashville website for most up-to-date hours of operation*
END:VEVENT
END:VCALENDAR