BEGIN:VCALENDAR
VERSION:2.0
PRODID:-//hacksw/handcal//NONSGML v1.0//EN
BEGIN:VEVENT
DTSTAMP:20210913T000000Z
DTSTART:20210913T000000Z
DTEND:20210913T020000Z

SUMMARY:John The Martyr
DESCRIPTION:Valid photo ID required at door for entryDoors: 6:00 PMShow: 8:00 PMMention "bowling special" for half-off your lane starting at 6PM!In accordance with the New York City “Key to NYC” vaccination mandate, Brooklyn Bowl has updated its COVID-19 Policy, effective immediately:  VACCINESAll guests ages 12 and over must show proof of at least one vaccine shot prior to entry.Guests over 18 must present a matching photo ID along with proof of vaccination in the form of: Excelsior Pass NYC COVID Safe AppCDC Vaccination Card (or photo)Physical NYC Vaccination RecordOfficial immunization record from outside the U.SAcceptable vaccines include:PfizerModernaJohnson & JohnsonVaccines authorized by the WHO (if vaccinated outside of the U.S.)Any guests, including ticket holders, unable to provide adequate proof of vaccination will not be granted entry into the venue.MASKSGuests under 12 are required to wear masks except while eating or drinking.All guests are strongly encouraged to wear masks. All Brooklyn Bowl staff are fully vaccinated and must wear masks while inside the venue.Our COVID-19 policies are subject to change at any time. Please refer to your show’s event page for show-specific vaccine and mask requirements, and continue to check prior to visiting Brooklyn Bowl.The health of our guests, staff, and performers remains our highest priority, and we appreciate your understanding as we continue to navigate this continually-evolving situation.END:VEVENT
END:VCALENDAR