BEGIN:VCALENDAR
VERSION:2.0
PRODID:-//hacksw/handcal//NONSGML v1.0//EN
BEGIN:VEVENT
DTSTAMP:20260614T000000Z
DTSTART:20260614T000000Z
DTEND:20260614T030000Z

SUMMARY:Hot In Herre: 2000s Dance Party
DESCRIPTION:Valid photo ID required for entry. Doors: 6pm Show: 8pm 21+
END:VEVENT
END:VCALENDAR