BEGIN:VCALENDAR
VERSION:2.0
PRODID:-//hacksw/handcal//NONSGML v1.0//EN
BEGIN:VEVENT
DTSTAMP:20241014T020000Z
DTSTART:20241014T020000Z
DTEND:20241014T050000Z

SUMMARY:Highly Suspect
DESCRIPTION:All AgesSupport acts are subject to change without notice.ALL SALES ARE FINAL. NO REFUNDS OR EXCHANGES Tickets purchased in person, subject to $2.00 processing charge.All tickets are standing room only. ALL TICKET PRICES ARE SUBJECT NEVADA&#39;S 9% LIVE ENTERTAINMENT TAX*Advertised times are for doors -- show time not available*Free Local Parking - Residents of Clark County who purchased a ticket will receive free parking the night of the show at any Caesars Self-Parking locations. The Parking Validation Machine is located inside the Retail Store of Brooklyn Bowl. Offer not available on comp tickets VIP PACKAGE INFO: Thank you for your purchase of a Highly Suspect VIP package. NO NAME CHANGES will be permitted under any circumstances; NO REFUNDS or EXCHANGES; all sales are final. You will receive an email from HighlySuspectVIP@bravado.com 2-3 days prior to the performance date with day of show instructions. Any merchandise included is distributed day of show ONLY. No items are sent in the mail prior to the event or following the event. For questions related to your purchase please contact MidlandVIP@epicrights.com
END:VEVENT
END:VCALENDAR