BEGIN:VCALENDAR
VERSION:2.0
PRODID:-//hacksw/handcal//NONSGML v1.0//EN
BEGIN:VEVENT
DTSTAMP:20260928T000000Z
DTSTART:20260928T000000Z
DTEND:20260928T030000Z

SUMMARY:Haute & Freddy's Big Disgrace Tour
DESCRIPTION:Doors 7pm / Show 8pm. All ages welcome. This ticket is valid for standing room only, general admission. ADA accommodations are available day of show. All support acts are subject to change without notice. Any change in showtimes, safety protocols, and other important information will be relayed to ticket-buyers via email. ALL SALES ARE FINAL.Brooklyn Bowl is now a cashless venue. As of July 8th 2024 we will no longer accept cash as a form of payment in all areas of the house. The venue has the capability to load cash onto a debit card, which you can use at the venue or anywhere that accepts Mastercard. VIP INFORMATION - Your ticket includes:One General Admission ticket to the show.An immersive VIP pre-show experience where fans fully step into character.Early entry to the venue one hour prior to doors. -Private merch shopping experience.VIP guests to join Haute & Freddy for a campy, tongue-in-cheek theatrical initiation - Led by Haute & Freddy in full over-the-top drama teacher character.Custom Haute & Freddy Royal Fool&#39;s Rosette - A ceremonial anointing as a member of the Royal Fools.What happens:Guided vocal warmups and theatrical exercises - "Give us your loudest boo.", "Cackle like a witch.", "Circus animal chaos.", over-the-top cheers, gasps, & melodramatic reactions.Freddy records the session live, capturing a library of theatrical mayhem.The twist:Those recorded moments are woven directly into that night&#39;s show - featured throughout narrations, transitions, and theatrical cues. 
END:VEVENT
END:VCALENDAR