BEGIN:VCALENDAR
VERSION:2.0
PRODID:-//hacksw/handcal//NONSGML v1.0//EN
BEGIN:VEVENT
DTSTAMP:20251110T033000Z
DTSTART:20251110T033000Z
DTEND:20251110T063000Z

SUMMARY:GZA feat Phunky Nomads - Celebrating the 30th Ann of Liquid Swords
DESCRIPTION:18+ W/IDSupport acts are subject to change without notice.ALL SALES ARE FINAL. NO REFUNDS OR EXCHANGES Tickets purchased in person, subject to $2.00 processing charge. All general admission tickets are standing room only.ALL TICKET PRICES ARE SUBJECT NEVADA&#39;S 9% LIVE ENTERTAINMENT TAX *Advertised times are for doors -- show time not available*All guests must have a valid government/state issued ID for entry to the venue.ADA accommodations are available day of show on a first come basis.Box office opens 2 hours prior to the door time on show days only.
END:VEVENT
END:VCALENDAR