BEGIN:VCALENDAR
VERSION:2.0
PRODID:-//hacksw/handcal//NONSGML v1.0//EN
BEGIN:VEVENT
DTSTAMP:20260508T000000Z
DTSTART:20260508T000000Z
DTEND:20260508T030000Z

SUMMARY:Grahame Lesh & Friends
DESCRIPTION:Valid photo ID required for entry. Doors: 6pm Show: 8pm 21+
END:VEVENT
END:VCALENDAR