BEGIN:VCALENDAR
VERSION:2.0
PRODID:-//hacksw/handcal//NONSGML v1.0//EN
BEGIN:VEVENT
DTSTAMP:20230924T033000Z
DTSTART:20230924T033000Z
DTEND:20230924T063000Z

SUMMARY:Gimme Gimme Disco (21+)
DESCRIPTION:A 70&#39;s Disco Party Inspired By ABBA!------This event is 21+. Valid government-issued photo ID is required for entry. No refunds will be issued for failure to produce proper identification. This ticket is valid for standing room only, general admission. ADA accommodations are available day of show. All support acts are subject to change without notice. Any change in showtimes, safety protocols, and other important information will be relayed to ticket-buyers via email. ALL SALES ARE FINALDOORS: 11:00 PM | SHOW 11:30 PM
END:VEVENT
END:VCALENDAR