BEGIN:VCALENDAR
VERSION:2.0
PRODID:-//hacksw/handcal//NONSGML v1.0//EN
BEGIN:VEVENT
DTSTAMP:20230714T023000Z
DTSTART:20230714T023000Z
DTEND:20230714T043000Z

SUMMARY:The Get Up To Get Down with Tyler Glaser
DESCRIPTION:
END:VEVENT
END:VCALENDAR