BEGIN:VCALENDAR
VERSION:2.0
PRODID:-//hacksw/handcal//NONSGML v1.0//EN
BEGIN:VEVENT
DTSTAMP:20200308T233000Z
DTSTART:20200308T233000Z
DTEND:20200309T073000Z

SUMMARY:Fiona Silver (EP Release) + Francis Aud + Julia Haltigan
DESCRIPTION:Mention "bowling special" for half-off your lane starting at 6PM!SET TIMES 7:30pm - Julia Haltigan 8:30pm - Francis Aud9:30pm - Fiona Silver
END:VEVENT
END:VCALENDAR