BEGIN:VCALENDAR
VERSION:2.0
PRODID:-//hacksw/handcal//NONSGML v1.0//EN
BEGIN:VEVENT
DTSTAMP:20211121T170000Z
DTSTART:20211121T170000Z
DTEND:20211121T190000Z

SUMMARY:Family Bowl
DESCRIPTION:Join us for Saturday daytime family bowling! In accordance with the the City of Philadelphia&#39;s COVID-19 vaccine and mask requirement, Brooklyn Bowl Philadelphia’s COVID-19 Policy is as follows:  MASKSIn accordance with local guidelines: Until further notice, masks are required to be worn at all times for attendees, regardless of vaccination status, except while actively eating or drinking. All Brooklyn Bowl staff are fully vaccinated and must wear masks while inside the venue.VACCINES / TESTINGYou, and anyone accompanying you in your party, are required to provide ONE of the following:Proof of your vaccination record (vaccination card or picture of your card with a matching ID card), demonstrating you were fully vaccinated at least two weeks in advance of the day of show. OR proof of a negative COVID test, administered within 72 hours of the day of show, with matching ID card.A negative PCR or antigen COVID-19 test will be accepted. Please be sure to bring printed or digital proof of your negative test result, dated and time-stamped. At-home COVID-19 test results will only be accepted if there is a link to results you can print or provide from a medical platform, dated and time-stamped. The City of Philadelphia is offering free testing at a number of locations. For more information please visit https://www.phila.gov/covid-testing-sites/.ACCEPTABLE VACCINATIONS INCLUDE:PfizerModernaJohnson & JohnsonVaccines authorized by the WHO (if vaccinated outside of the U.S.)An inherent risk of exposure to COVID-19 exists in any public place where people are present. COVID-19 is an extremely contagious disease that can lead to severe illness and death. According to the local health authorities, senior citizens and guests with underlying medical conditions are especially vulnerable.  By visiting our establishment, you voluntarily assume all risks related to the exposure to or spreading of  COVID-19.Help keep each other healthy.END:VEVENT
END:VCALENDAR