BEGIN:VCALENDAR
VERSION:2.0
PRODID:-//hacksw/handcal//NONSGML v1.0//EN
BEGIN:VEVENT
DTSTAMP:20241020T035900Z
DTSTART:20241020T035900Z
DTEND:20241020T065900Z

SUMMARY:Emo Night Brooklyn
DESCRIPTION:Valid photo ID required for entry Doors: 11:30pm Show: 12am
END:VEVENT
END:VCALENDAR