BEGIN:VCALENDAR
VERSION:2.0
PRODID:-//hacksw/handcal//NONSGML v1.0//EN
BEGIN:VEVENT
DTSTAMP:20260806T000000Z
DTSTART:20260806T000000Z
DTEND:20260806T030000Z

SUMMARY:Dead Bowl: Stella Blue's Band - Celebrating Jerry Garcia
DESCRIPTION:Valid photo ID required for entry. Doors: 6pm Show: 8pm 18+
END:VEVENT
END:VCALENDAR