BEGIN:VCALENDAR
VERSION:2.0
PRODID:-//hacksw/handcal//NONSGML v1.0//EN
BEGIN:VEVENT
DTSTAMP:20230603T010000Z
DTSTART:20230603T010000Z
DTEND:20230603T040000Z

SUMMARY:Corey Kent
DESCRIPTION:This event is 18+, unless accompanied by a parent or legal guardian. Valid government-issued photo ID is required for entry. No refunds will be issued for failure to produce proper identification. Want to have the total VIP experience? Upgrade your ticket today by reserving a bowling lane or VIP Box by reaching out to nashvilleevents@brooklynbowl.comThis ticket is valid for standing room only, general admission. ADA accommodations are available day of show. All support acts are subject to change without notice. Any change in showtimes or other important information will be relayed to ticket-buyers via email. ALL SALES ARE FINAL Tickets purchased in person, subject to $3.00 processing charge (in addition to cc fee, if applicable). ALL TICKET PRICES ARE SUBJECT TO TENNESSEE 9.25% SALES TAX *Advertised times are for show times - check Brooklyn Bowl Nashville website for most up-to-date hours of operation* Delivery delay until 7 days before event
END:VEVENT
END:VCALENDAR