BEGIN:VCALENDAR
VERSION:2.0
PRODID:-//hacksw/handcal//NONSGML v1.0//EN
BEGIN:VEVENT
DTSTAMP:20240803T010000Z
DTSTART:20240803T010000Z
DTEND:20240803T063000Z

SUMMARY:Club 90s Presents: Charli XCX Night
DESCRIPTION:Valid photo ID required for entry Doors: 6pm Show: 9pm
END:VEVENT
END:VCALENDAR