BEGIN:VCALENDAR
VERSION:2.0
PRODID:-//hacksw/handcal//NONSGML v1.0//EN
BEGIN:VEVENT
DTSTAMP:20210717T050000Z
DTSTART:20210717T050000Z
DTEND:20210717T070000Z

SUMMARY:Club 90s Presents Taylor Swift Night
DESCRIPTION:$10.00 General Admission, $12.00 General Admission (day of show)*** $5.00 General Admission (day of show, must be in line before 10pm)*** All guests must have a valid government/state issued ID for entry to the venue. No refunds.Tickets purchased in person, subject to $2.00 processing charge (in addition to cc fee, if applicable).All general admission tickets are standing room only. ALL TICKET PRICES INCLUDE NEVADA&#39;S 9% LIVE ENTERTAINMENT TAX Special room discounts via Caesars Hotels & Resorts for traveling fans. For hotel rooms use promo code: BRB15 at www.caesars.com applicable for rooms at The LINQ Hotel and the Flamingo. *Advertised times are for doors -- show time not available*END:VEVENT
END:VCALENDAR