BEGIN:VCALENDAR
VERSION:2.0
PRODID:-//hacksw/handcal//NONSGML v1.0//EN
BEGIN:VEVENT
DTSTAMP:20230506T040000Z
DTSTART:20230506T040000Z
DTEND:20230506T070000Z

SUMMARY:Club 90's Presents Rihanna Night
DESCRIPTION:This is a DJ club night. Rihanna will not be performing. ALL SALES ARE FINAL. NO REFUNDS OR EXCHANGES Tickets purchased in person, subject to $2.00 processing charge (in addition to cc fee, if applicable). All general admission tickets are standing room only. ALL TICKET PRICES ARE SUBJECT NEVADA'S 9% LIVE ENTERTAINMENT TAX *Advertised times are for doors -- show time not available*By visiting our establishment, you voluntarily assume all risks related to the exposure to or spreading of COVID-19. Be sure to check our venue website for the latest updates and guidelines as entry requirements are subject to change. Free Local Parking - Residents of Clark County who purchased a ticket will receive free parking the night of the show at any Caesars Self-Parking locations. The Parking Validation Machine is located inside the Retail Store of Brooklyn Bowl. All guests must have a valid government/state issued ID for entry to the venue.
END:VEVENT
END:VCALENDAR