BEGIN:VCALENDAR
VERSION:2.0
PRODID:-//hacksw/handcal//NONSGML v1.0//EN
BEGIN:VEVENT
DTSTAMP:20230215T230000Z
DTSTART:20230215T230000Z
DTEND:20230216T020000Z

SUMMARY:CLOSED
DESCRIPTION:
END:VEVENT
END:VCALENDAR