BEGIN:VCALENDAR
VERSION:2.0
PRODID:-//hacksw/handcal//NONSGML v1.0//EN
BEGIN:VEVENT
DTSTAMP:20240101T000000Z
DTSTART:20240101T000000Z
DTEND:20240101T030000Z

SUMMARY:CBS New Year's Eve Live: Nashville's Big Bash ft. Old Dominion
DESCRIPTION:This event is 21+. A physical, valid government-issued photo ID is required for entry. No refunds will be issued for failure to produce proper identification. Want to have the total VIP experience? Upgrade your ticket today by reserving a bowling lane or VIP Box by reaching out to nashvilleevents@brooklynbowl.comCELEBRATE NEW YEAR'S EVE WITH CBS AND SIX TIME CMA VOCAL GROUP OF THE YEAR OLD DOMINION AT BROOKLYN BOWL NASHVILLE Brooklyn Bowl Nashville will be the host stage and official watch party for the Nationally televised CBS New Year's Eve Live: Nashville's Big Bash on Sunday, December 31. Country's music's hottest stars will ring in the new year with Brooklyn Bowl guests at one of Nashville's most elite concert venues. Tickets for this event will start at $125 per person for General Admission standing room only and includes a midnight toast and two additional drink tickets. Upgrades available for Brooklyn Bowl's Lanes and VIP Boxes will, also, be available for purchase through nashvilleevents.com. Artists to be announced at a later date. Purchase your ticket now to be part of this intimate experience during the city's biggest annual celebration! ALL SALES ARE FINAL There is a delivery delay on this event until 72 hours before the event date and time.
END:VEVENT
END:VCALENDAR