BEGIN:VCALENDAR
VERSION:2.0
PRODID:-//hacksw/handcal//NONSGML v1.0//EN
BEGIN:VEVENT
DTSTAMP:20240407T233000Z
DTSTART:20240407T233000Z
DTEND:20240408T023000Z

SUMMARY:Bushwick's Dead Ft. Strangers Stopping Strangers + unTame Impala
DESCRIPTION:Valid photo ID required at door for entry Doors: 6:00 PM Show: 7:30 PMValid photo ID required at door for entry Doors: 6:00 PM Show: 7:30 PM
END:VEVENT
END:VCALENDAR