BEGIN:VCALENDAR
VERSION:2.0
PRODID:-//hacksw/handcal//NONSGML v1.0//EN
BEGIN:VEVENT
DTSTAMP:20220926T140000Z
DTSTART:20220926T140000Z
DTEND:20220926T160000Z

SUMMARY:Bowl Hashanah: Rosh Hashanah at Brooklyn Bowl
DESCRIPTION:There will be no bowling, food or beverage serviceCelebrate the Jewish New Year with Rabbi Daniel Brenner, Jeremiah Lockwood Antibalas&#39; Jordan McLean and many others! Be sure to check out becausejewish.com and FANS.live for info on  Kol NIdre and Yom Kippur service opportunities.Bowl Hashanah includes:* Rosh Hashanah morning services led by Rabbi Daniel Brenner with musical director Jeremiah Lockwood, Antibalas&#39; Jordan McLean, Yula Be’eri, John Bollinger, Stuart Bogie, Antibalas&#39; Timothy Allen, and Yusuke Yamamoto!* Featuring special guests Leslie Mendelson, Armo and Eric Slick (Dr. Doh)* Torah reading and procession lead by Rabbi Brenner * Plain-sense explanations of the religious aspects of the holiday.* Prayer* Shofar blowing + MeditationEND:VEVENT
END:VCALENDAR